BEGIN:VCALENDAR
VERSION:2.0
PRODID:-//The Food Truck Group - ECPv6.9.0//NONSGML v1.0//EN
CALSCALE:GREGORIAN
METHOD:PUBLISH
X-WR-CALNAME:The Food Truck Group
X-ORIGINAL-URL:https://www.thefoodtruckgroup.com
X-WR-CALDESC:Events for The Food Truck Group
REFRESH-INTERVAL;VALUE=DURATION:PT1H
X-Robots-Tag:noindex
X-PUBLISHED-TTL:PT1H
BEGIN:VTIMEZONE
TZID:UTC
BEGIN:STANDARD
TZOFFSETFROM:+0000
TZOFFSETTO:+0000
TZNAME:UTC
DTSTART:20210101T000000
END:STANDARD
END:VTIMEZONE
BEGIN:VEVENT
DTSTART;TZID=UTC:20211120T090000
DTEND;TZID=UTC:20211120T110000
DTSTAMP:20260426T021242
CREATED:20211119T025701Z
LAST-MODIFIED:20211119T031442Z
UID:2603-1637398800-1637406000@www.thefoodtruckgroup.com
SUMMARY:Secrets to Successful Food Photography for Restaurants (FREE)
DESCRIPTION:Do you wish your food pictures were more Instagram-worthy? Learn how to take pictures of your food products using the iPhone. Topics discussed will be composition\, lighting\, and editing to create pictures that sell! \nCLICK HERE TO REGISTER FOR EVENT 
URL:https://www.thefoodtruckgroup.com/event/secrets-to-successful-food-photography-for-restaurants/
CATEGORIES:FREE WORKSHOPS,WORKSHOPS
ATTACH;FMTTYPE=image/png:https://www.thefoodtruckgroup.com/wp-content/uploads/2021/11/food-photography.png
ORGANIZER;CN="Kimberly Tapia":MAILTO:hello@thefoodtruckgroup.com
END:VEVENT
BEGIN:VEVENT
DTSTART;TZID=UTC:20211120T110000
DTEND;TZID=UTC:20211120T130000
DTSTAMP:20260426T021242
CREATED:20211119T030948Z
LAST-MODIFIED:20211119T031122Z
UID:2609-1637406000-1637413200@www.thefoodtruckgroup.com
SUMMARY:How to Use Tik Tok To Grow Your Business - Restaurant (FREE)
DESCRIPTION:Learn how to create viral TiK Tok videos and create more followers for your business. In this webinar\, you will learn how to blend action\, music\, and fun to attract more attention and sales to your brand. Our expert\, Kimberly Tapia\, shares how one post attracted 1 million followers! \nCLICK HERE TO REGISTER
URL:https://www.thefoodtruckgroup.com/event/how-to-use-tik-tok-to-grow-your-business-restaurant/
LOCATION:Zoom – ONLINE
CATEGORIES:FREE WORKSHOPS
ATTACH;FMTTYPE=image/png:https://www.thefoodtruckgroup.com/wp-content/uploads/2021/11/tik-tok-workshop.png
ORGANIZER;CN="Kimberly Tapia":MAILTO:hello@thefoodtruckgroup.com
END:VEVENT
END:VCALENDAR