BEGIN:VCALENDAR
VERSION:2.0
PRODID:-//The Food Truck Group - ECPv6.9.0//NONSGML v1.0//EN
CALSCALE:GREGORIAN
METHOD:PUBLISH
X-ORIGINAL-URL:https://www.thefoodtruckgroup.com
X-WR-CALDESC:Events for The Food Truck Group
REFRESH-INTERVAL;VALUE=DURATION:PT1H
X-Robots-Tag:noindex
X-PUBLISHED-TTL:PT1H
BEGIN:VTIMEZONE
TZID:UTC
BEGIN:STANDARD
TZOFFSETFROM:+0000
TZOFFSETTO:+0000
TZNAME:UTC
DTSTART:20220101T000000
END:STANDARD
END:VTIMEZONE
BEGIN:VEVENT
DTSTART;TZID=UTC:20220106T160000
DTEND;TZID=UTC:20220106T180000
DTSTAMP:20260425T231414
CREATED:20220106T203803Z
LAST-MODIFIED:20220106T203856Z
UID:2633-1641484800-1641492000@www.thefoodtruckgroup.com
SUMMARY:Creating a Food Truck Menu that Sells (FREE) - 01/06/22
DESCRIPTION:Join food truck expert\, Kimberly Tapia\, at our FREE workshop “Creating a Food Truck Menu That Sells”. \nLearn how to create a menu for your mobile food business that will drive more sales and create more profits. We will look at categories\, add-ons\, and highlight the most profitable products. \nREGISTER BY CLICKING HERE \nINSTRUCTOR: Kimberly Tapia
URL:https://www.thefoodtruckgroup.com/event/creating-a-food-truck-menu-that-sells-free-01-06-22/
CATEGORIES:FREE WORKSHOPS,WORKSHOPS
ATTACH;FMTTYPE=image/jpeg:https://www.thefoodtruckgroup.com/wp-content/uploads/2022/01/Food-Truck-Menu.jpeg
ORGANIZER;CN="Kimberly Tapia":MAILTO:hello@thefoodtruckgroup.com
END:VEVENT
BEGIN:VEVENT
DTSTART;TZID=UTC:20220115T090000
DTEND;TZID=UTC:20220115T110000
DTSTAMP:20260425T231414
CREATED:20220106T205854Z
LAST-MODIFIED:20220106T212752Z
UID:2637-1642237200-1642244400@www.thefoodtruckgroup.com
SUMMARY:How to Market Your Food Truck (FREE) - 01/15/22 | 9AM - 11AM
DESCRIPTION:Getting customers to notice and purchase from your food truck is essential. In this webinar with food truck expert\, Kimberly Tapia\, you will learn what a great truck wrap includes\, how to let your customers know how to find your schedule\, website needs\, and develop a social media strategy. \nCLICK HERE TO REGISTER \nINSTRUCTOR: Kimberly Tapia
URL:https://www.thefoodtruckgroup.com/event/how-to-market-your-food-truck-free-01-15-22-9am-11am/
LOCATION:Zoom – ONLINE
CATEGORIES:FREE WORKSHOPS,WORKSHOPS
ATTACH;FMTTYPE=image/jpeg:https://www.thefoodtruckgroup.com/wp-content/uploads/2022/01/Food-Truck-1536x1024-1.jpeg
ORGANIZER;CN="Kimberly Tapia":MAILTO:hello@thefoodtruckgroup.com
END:VEVENT
BEGIN:VEVENT
DTSTART;TZID=UTC:20220118T180000
DTEND;TZID=UTC:20220118T200000
DTSTAMP:20260425T231414
CREATED:20220106T213100Z
LAST-MODIFIED:20220106T213100Z
UID:2640-1642528800-1642536000@www.thefoodtruckgroup.com
SUMMARY:¿Cómo iniciar un negocio de comida desde casa? (GRATIS) 01/18/22 | 6PM-8PM
DESCRIPTION:Quieres dar a conocer al resto del mundo tus habilidades como chef\, y sin moverte de casa. ¡Felicitaciones! Puedes comenzar un negocio desde casa con pocos recursos. En este webinar aprenderás sobre la industria de la alimentación y cómo administrar un negocio desde casa. Además conocerás cuales son las normas de seguridad alimentaria\, y los puntos claves para elaborar un buen plan de negocios. \nREGISTRECE AQUI \nINSTRUCTORA: Kimberly Tapia
URL:https://www.thefoodtruckgroup.com/event/como-iniciar-un-negocio-de-comida-desde-casa-gratis-01-18-22-6pm-8pm/
LOCATION:Zoom – ONLINE
CATEGORIES:Español,FREE WORKSHOPS,WORKSHOPS
ATTACH;FMTTYPE=image/jpeg:https://www.thefoodtruckgroup.com/wp-content/uploads/2022/01/Negocio-de-comidas-desde-casa.jpeg
ORGANIZER;CN="Kimberly Tapia":MAILTO:hello@thefoodtruckgroup.com
END:VEVENT
END:VCALENDAR