BEGIN:VCALENDAR
VERSION:2.0
PRODID:-//The Food Truck Group - ECPv6.9.0//NONSGML v1.0//EN
CALSCALE:GREGORIAN
METHOD:PUBLISH
X-WR-CALNAME:The Food Truck Group
X-ORIGINAL-URL:https://www.thefoodtruckgroup.com
X-WR-CALDESC:Events for The Food Truck Group
REFRESH-INTERVAL;VALUE=DURATION:PT1H
X-Robots-Tag:noindex
X-PUBLISHED-TTL:PT1H
BEGIN:VTIMEZONE
TZID:UTC
BEGIN:STANDARD
TZOFFSETFROM:+0000
TZOFFSETTO:+0000
TZNAME:UTC
DTSTART:20220101T000000
END:STANDARD
END:VTIMEZONE
BEGIN:VEVENT
DTSTART;TZID=UTC:20220416T110000
DTEND;TZID=UTC:20220416T130000
DTSTAMP:20260425T184358
CREATED:20220412T023609Z
LAST-MODIFIED:20220412T023742Z
UID:2667-1650106800-1650114000@www.thefoodtruckgroup.com
SUMMARY:How to Start a Successful Food Truck Business (FREE) - 04/16/22 | 11AM - 1PM
DESCRIPTION:In this FREE webinar you will learn about the nuts and bolts of starting a food truck business. Topics will be the differences in purchasing or leasing a truck\, how commissaries work\, health permitting\, and what your financial and time investment will be \nInstructor: Kimberly Tapia \nCLICK HERE TO REGISTER
URL:https://www.thefoodtruckgroup.com/event/how-to-start-a-successful-food-truck-business-free-04-16-22-11am-1pm/
LOCATION:Zoom – ONLINE
CATEGORIES:FREE WORKSHOPS,WORKSHOPS
ORGANIZER;CN="Kimberly Tapia":MAILTO:hello@thefoodtruckgroup.com
END:VEVENT
END:VCALENDAR