BEGIN:VCALENDAR
VERSION:2.0
PRODID:-//The Food Truck Group - ECPv6.9.0//NONSGML v1.0//EN
CALSCALE:GREGORIAN
METHOD:PUBLISH
X-WR-CALNAME:The Food Truck Group
X-ORIGINAL-URL:https://www.thefoodtruckgroup.com
X-WR-CALDESC:Events for The Food Truck Group
REFRESH-INTERVAL;VALUE=DURATION:PT1H
X-Robots-Tag:noindex
X-PUBLISHED-TTL:PT1H
BEGIN:VTIMEZONE
TZID:UTC
BEGIN:STANDARD
TZOFFSETFROM:+0000
TZOFFSETTO:+0000
TZNAME:UTC
DTSTART:20220101T000000
END:STANDARD
END:VTIMEZONE
BEGIN:VEVENT
DTSTART;TZID=UTC:20220521T090000
DTEND;TZID=UTC:20220521T110000
DTSTAMP:20260425T171523
CREATED:20220513T001011Z
LAST-MODIFIED:20220513T015708Z
UID:2695-1653123600-1653130800@www.thefoodtruckgroup.com
SUMMARY:How to Start a Successful Food Truck Business (FREE) – 05/21/22 | 9AM – 11AM
DESCRIPTION:May 21\, 2022 @ 9:00 AM – 11:00 AM \n\n\n\nIn this FREE webinar you will learn about the nuts and bolts of starting a food truck business. Topics will be the differences in purchasing or leasing a truck\, how commissaries work\, health permitting\, and what your financial and time investment will be \nInstructor: Kimberly Tapia \n  \n\n\n\n\nREGISTER HERE
URL:https://www.thefoodtruckgroup.com/event/how-to-start-a-successful-food-truck-business-free-05-21-22-9am-11am/
LOCATION:Zoom – ONLINE
CATEGORIES:FREE WORKSHOPS,WORKSHOPS
ATTACH;FMTTYPE=image/png:https://www.thefoodtruckgroup.com/wp-content/uploads/2022/05/food-truck-class.png
ORGANIZER;CN="Kimberly Tapia":MAILTO:hello@thefoodtruckgroup.com
END:VEVENT
END:VCALENDAR